BEGIN:VCALENDAR
PRODID;X-RICAL-TZSOURCE=TZINFO:-&#47;&#47;com.denhaven2&#47;NONSGML ri_cal gem&#47;&#47;EN
CALSCALE:GREGORIAN
VERSION:2.0
BEGIN:VEVENT
DTEND;VALUE=DATE:20100802
DTSTART;VALUE=DATE:20100802
DESCRIPTION:0.2.0 is due on 08&#47;02&#47;10 (4 tickets)
SUMMARY:Milestone for optionsful: 0.2.0
LOCATION:https:&#47;&#47;kayaman.lighthouseapp.com&#47;projects&#47;56438&#47;milestones&#47;7890
 9-10
END:VEVENT
END:VCALENDAR
